BEGIN:VCALENDAR
VERSION:2.0
PRODID:-//Tennis &amp; Padel Club Botesa - ECPv6.15.20//NONSGML v1.0//EN
CALSCALE:GREGORIAN
METHOD:PUBLISH
X-WR-CALNAME:Tennis &amp; Padel Club Botesa
X-ORIGINAL-URL:https://botesa.nl
X-WR-CALDESC:Evenementen voor Tennis &amp; Padel Club Botesa
REFRESH-INTERVAL;VALUE=DURATION:PT1H
X-Robots-Tag:noindex
X-PUBLISHED-TTL:PT1H
BEGIN:VTIMEZONE
TZID:Europe/Amsterdam
BEGIN:DAYLIGHT
TZOFFSETFROM:+0100
TZOFFSETTO:+0200
TZNAME:CEST
DTSTART:20250330T010000
END:DAYLIGHT
BEGIN:STANDARD
TZOFFSETFROM:+0200
TZOFFSETTO:+0100
TZNAME:CET
DTSTART:20251026T010000
END:STANDARD
BEGIN:DAYLIGHT
TZOFFSETFROM:+0100
TZOFFSETTO:+0200
TZNAME:CEST
DTSTART:20260329T010000
END:DAYLIGHT
BEGIN:STANDARD
TZOFFSETFROM:+0200
TZOFFSETTO:+0100
TZNAME:CET
DTSTART:20261025T010000
END:STANDARD
BEGIN:DAYLIGHT
TZOFFSETFROM:+0100
TZOFFSETTO:+0200
TZNAME:CEST
DTSTART:20270328T010000
END:DAYLIGHT
BEGIN:STANDARD
TZOFFSETFROM:+0200
TZOFFSETTO:+0100
TZNAME:CET
DTSTART:20271031T010000
END:STANDARD
END:VTIMEZONE
BEGIN:VEVENT
DTSTART;TZID=Europe/Amsterdam:20260614T090000
DTEND;TZID=Europe/Amsterdam:20260614T170000
DTSTAMP:20260422T105241
CREATED:20260218T142254Z
LAST-MODIFIED:20260218T142258Z
UID:1762-1781427600-1781456400@botesa.nl
SUMMARY:Ouder & Kind toernooi - Tennis & Padel
DESCRIPTION:Wat is er leuker dan samen met je zoon\, dochter\, vader of moeder de baan op te gaan? Tijdens het Ouder & Kind toernooi draait het om plezier\, teamwork en sportiviteit.
URL:https://botesa.nl/evenement/ouder-kind-toernooi-tennis-padel/
END:VEVENT
END:VCALENDAR