BEGIN:VCALENDAR
VERSION:2.0
PRODID:-//Tennis &amp; Padel Club Botesa - ECPv6.15.20//NONSGML v1.0//EN
CALSCALE:GREGORIAN
METHOD:PUBLISH
X-ORIGINAL-URL:https://botesa.nl
X-WR-CALDESC:Evenementen voor Tennis &amp; Padel Club Botesa
REFRESH-INTERVAL;VALUE=DURATION:PT1H
X-Robots-Tag:noindex
X-PUBLISHED-TTL:PT1H
BEGIN:VTIMEZONE
TZID:Europe/Amsterdam
BEGIN:DAYLIGHT
TZOFFSETFROM:+0100
TZOFFSETTO:+0200
TZNAME:CEST
DTSTART:20250330T010000
END:DAYLIGHT
BEGIN:STANDARD
TZOFFSETFROM:+0200
TZOFFSETTO:+0100
TZNAME:CET
DTSTART:20251026T010000
END:STANDARD
BEGIN:DAYLIGHT
TZOFFSETFROM:+0100
TZOFFSETTO:+0200
TZNAME:CEST
DTSTART:20260329T010000
END:DAYLIGHT
BEGIN:STANDARD
TZOFFSETFROM:+0200
TZOFFSETTO:+0100
TZNAME:CET
DTSTART:20261025T010000
END:STANDARD
BEGIN:DAYLIGHT
TZOFFSETFROM:+0100
TZOFFSETTO:+0200
TZNAME:CEST
DTSTART:20270328T010000
END:DAYLIGHT
BEGIN:STANDARD
TZOFFSETFROM:+0200
TZOFFSETTO:+0100
TZNAME:CET
DTSTART:20271031T010000
END:STANDARD
END:VTIMEZONE
BEGIN:VEVENT
DTSTART;TZID=Europe/Amsterdam:20260625T170000
DTEND;TZID=Europe/Amsterdam:20260628T170000
DTSTAMP:20260420T123002
CREATED:20260218T142808Z
LAST-MODIFIED:20260218T142814Z
UID:1766-1782406800-1782666000@botesa.nl
SUMMARY:Botesa open - tennis
DESCRIPTION:Het toernooi voor iedereen met een KNLTB lidmaatschap.  \n\n\n\nTijd om je racket uit de tas te halen en de baan te veroveren. Verwacht spannende wedstrijden\, mooie rally’s\, sportieve strijd en een gezellige sfeer op en rond de banen.
URL:https://botesa.nl/evenement/botesa-open-tennis/
END:VEVENT
END:VCALENDAR