BEGIN:VCALENDAR
VERSION:2.0
PRODID:-//Tennis &amp; Padel Club Botesa - ECPv6.15.20//NONSGML v1.0//EN
CALSCALE:GREGORIAN
METHOD:PUBLISH
X-WR-CALNAME:Tennis &amp; Padel Club Botesa
X-ORIGINAL-URL:https://botesa.nl
X-WR-CALDESC:Evenementen voor Tennis &amp; Padel Club Botesa
REFRESH-INTERVAL;VALUE=DURATION:PT1H
X-Robots-Tag:noindex
X-PUBLISHED-TTL:PT1H
BEGIN:VTIMEZONE
TZID:Europe/Amsterdam
BEGIN:DAYLIGHT
TZOFFSETFROM:+0100
TZOFFSETTO:+0200
TZNAME:CEST
DTSTART:20250330T010000
END:DAYLIGHT
BEGIN:STANDARD
TZOFFSETFROM:+0200
TZOFFSETTO:+0100
TZNAME:CET
DTSTART:20251026T010000
END:STANDARD
BEGIN:DAYLIGHT
TZOFFSETFROM:+0100
TZOFFSETTO:+0200
TZNAME:CEST
DTSTART:20260329T010000
END:DAYLIGHT
BEGIN:STANDARD
TZOFFSETFROM:+0200
TZOFFSETTO:+0100
TZNAME:CET
DTSTART:20261025T010000
END:STANDARD
BEGIN:DAYLIGHT
TZOFFSETFROM:+0100
TZOFFSETTO:+0200
TZNAME:CEST
DTSTART:20270328T010000
END:DAYLIGHT
BEGIN:STANDARD
TZOFFSETFROM:+0200
TZOFFSETTO:+0100
TZNAME:CET
DTSTART:20271031T010000
END:STANDARD
BEGIN:DAYLIGHT
TZOFFSETFROM:+0100
TZOFFSETTO:+0200
TZNAME:CEST
DTSTART:20280326T010000
END:DAYLIGHT
BEGIN:STANDARD
TZOFFSETFROM:+0200
TZOFFSETTO:+0100
TZNAME:CET
DTSTART:20281029T010000
END:STANDARD
END:VTIMEZONE
BEGIN:VEVENT
DTSTART;TZID=Europe/Amsterdam:20260614T090000
DTEND;TZID=Europe/Amsterdam:20260614T170000
DTSTAMP:20260420T055110
CREATED:20260218T142254Z
LAST-MODIFIED:20260218T142258Z
UID:1762-1781427600-1781456400@botesa.nl
SUMMARY:Ouder & Kind toernooi - Tennis & Padel
DESCRIPTION:Wat is er leuker dan samen met je zoon\, dochter\, vader of moeder de baan op te gaan? Tijdens het Ouder & Kind toernooi draait het om plezier\, teamwork en sportiviteit.
URL:https://botesa.nl/evenement/ouder-kind-toernooi-tennis-padel/
END:VEVENT
BEGIN:VEVENT
DTSTART;TZID=Europe/Amsterdam:20260619T183000
DTEND;TZID=Europe/Amsterdam:20260619T235900
DTSTAMP:20260420T055110
CREATED:20260218T142507Z
LAST-MODIFIED:20260218T142512Z
UID:1764-1781893800-1781913540@botesa.nl
SUMMARY:Afsluiting competitie & Midzomer toernooi - Tennis & Padel
DESCRIPTION:De voorjaarscompetitie is weer voorbij en tijdens het midzomer toernooi strijdt iedereen (nogmaals) voor het kampioenschap.
URL:https://botesa.nl/evenement/afsluiting-competitie-midzomer-toernooi-tennis-padel/
END:VEVENT
BEGIN:VEVENT
DTSTART;TZID=Europe/Amsterdam:20260625T170000
DTEND;TZID=Europe/Amsterdam:20260628T170000
DTSTAMP:20260420T055110
CREATED:20260218T142808Z
LAST-MODIFIED:20260218T142814Z
UID:1766-1782406800-1782666000@botesa.nl
SUMMARY:Botesa open - tennis
DESCRIPTION:Het toernooi voor iedereen met een KNLTB lidmaatschap.  \n\n\n\nTijd om je racket uit de tas te halen en de baan te veroveren. Verwacht spannende wedstrijden\, mooie rally’s\, sportieve strijd en een gezellige sfeer op en rond de banen.
URL:https://botesa.nl/evenement/botesa-open-tennis/
END:VEVENT
BEGIN:VEVENT
DTSTART;TZID=Europe/Amsterdam:20260627T100000
DTEND;TZID=Europe/Amsterdam:20260628T170000
DTSTAMP:20260420T055110
CREATED:20260218T142933Z
LAST-MODIFIED:20260218T142939Z
UID:1768-1782554400-1782666000@botesa.nl
SUMMARY:Botesa open weekendtoernooi jeugd - tennis
DESCRIPTION:Voor alle jeugd: Tijd om je racket uit de tas te halen en de baan te veroveren. Verwacht spannende wedstrijden\, mooie rally’s\, sportieve strijd en een gezellige sfeer op en rond de banen.
URL:https://botesa.nl/evenement/botesa-open-weekendtoernooi-jeugd-tennis/
END:VEVENT
BEGIN:VEVENT
DTSTART;TZID=Europe/Amsterdam:20260627T100000
DTEND;TZID=Europe/Amsterdam:20260705T170000
DTSTAMP:20260420T055110
CREATED:20260218T143041Z
LAST-MODIFIED:20260218T143047Z
UID:1770-1782554400-1783270800@botesa.nl
SUMMARY:botesa open - padel
DESCRIPTION:Tijd om je racket uit de tas te halen en de baan te veroveren. Verwacht spannende wedstrijden\, mooie rally’s\, sportieve strijd en een gezellige sfeer op en rond de banen.
URL:https://botesa.nl/evenement/botesa-open-padel/
END:VEVENT
BEGIN:VEVENT
DTSTART;TZID=Europe/Amsterdam:20260725T100000
DTEND;TZID=Europe/Amsterdam:20260726T170000
DTSTAMP:20260420T055110
CREATED:20260218T143243Z
LAST-MODIFIED:20260218T143250Z
UID:1772-1784973600-1785085200@botesa.nl
SUMMARY:thuisblijf weekendtoernooi - Tennis
DESCRIPTION:Blijf jij deze zomer lekker thuis? Dan hebben wij het perfecte vakantie-uitje voor jou! Tijdens de zomervakantie organiseren wij het Thuisblijf Weekendtoernooi. Een weekend vol tennis\, plezier en zomerse gezelligheid.
URL:https://botesa.nl/evenement/thuisblijf-weekendtoernooi-tennis/
END:VEVENT
BEGIN:VEVENT
DTSTART;TZID=Europe/Amsterdam:20260903T100000
DTEND;TZID=Europe/Amsterdam:20260906T170000
DTSTAMP:20260420T055110
CREATED:20260218T143448Z
LAST-MODIFIED:20260218T143453Z
UID:1774-1788429600-1788714000@botesa.nl
SUMMARY:Botesa clubkampioenschappen jeugd - Tennis & padel
DESCRIPTION:Het is weer zover…. dé strijd om de clubtitel gaat beginnen! Tijdens dit weekend nemen de jeugdleden het tegen elkaar op voor de felbegeerde titel: Clubkampioen 2026!
URL:https://botesa.nl/evenement/botesa-clubkampioenschappen-jeugd-tennis-padel/
END:VEVENT
BEGIN:VEVENT
DTSTART;TZID=Europe/Amsterdam:20260903T100000
DTEND;TZID=Europe/Amsterdam:20260906T170000
DTSTAMP:20260420T055110
CREATED:20260218T143634Z
LAST-MODIFIED:20260218T143642Z
UID:1776-1788429600-1788714000@botesa.nl
SUMMARY:Botesa clubkampioenschappen - tennis
DESCRIPTION:Het is weer zover… dé strijd om de clubtitel gaat beginnen! Tijdens deze dagen wordt gestreden om de eeuwige roem\, sportieve eer en de felbegeerde titel: Clubkampioen 2026!
URL:https://botesa.nl/evenement/botesa-clubkampioenschappen-tennis/
END:VEVENT
BEGIN:VEVENT
DTSTART;TZID=Europe/Amsterdam:20261105T100000
DTEND;TZID=Europe/Amsterdam:20261108T170000
DTSTAMP:20260420T055110
CREATED:20260218T143815Z
LAST-MODIFIED:20260218T143819Z
UID:1778-1793872800-1794157200@botesa.nl
SUMMARY:SLOTWeekend toernooi Jeugd & Senioren - Tennis & Padel
DESCRIPTION:Het seizoen loopt ten einde\, maar nog één keer gaan we de strijd op de club met elkaar aan tijdens het slotweekend toernooi.
URL:https://botesa.nl/evenement/slotweekend-toernooi-jeugd-senioren-tennis-padel/
END:VEVENT
BEGIN:VEVENT
DTSTART;TZID=Europe/Amsterdam:20270102T130000
DTEND;TZID=Europe/Amsterdam:20270102T170000
DTSTAMP:20260420T055110
CREATED:20260218T143958Z
LAST-MODIFIED:20260218T144004Z
UID:1780-1798894800-1798909200@botesa.nl
SUMMARY:OLIEBOLLEN TOERNOOI
DESCRIPTION:Begin het jaar sportief en gezellig tijdens ons traditionele Oliebollen Toernooi. Een dag met leuke wedstrijden\, winterse gezelligheid en natuurlijk… Oliebollen!
URL:https://botesa.nl/evenement/oliebollen-toernooi/
END:VEVENT
END:VCALENDAR